Workbook

Sheet UIP Expenditures
A3: SCHOOL YEAR | B3: TOTAL NO. OF FULL-TIME FACULTY WITH RESEARCH INVOLVEMENT (A) | C3: EXPECTED ANNUAL RESEARCH COST EXPENDITURE (A x PhP75,000) | D3: ACTUAL ANNUAL RESEARCH COST EXPENDITURE | E3: DIFFERENCE BETWEEN ACTUAL AND EXPECTED | F3: LINK FOR THE DOCUMENT
A4: SCHOOL YEAR 2026-2027 (2026) | C4: =B4*75000 -> 0 | D4: =Summary!E2 -> 8460452.2 | E4: =D4-C4 -> 8460452.2
A5: SCHOOL YEAR 2025-2026 (2025) | B5: 253 | C5: =B5*75000 -> 18975000 | D5: =+Summary!E3 -> 29939551 | E5: =D5-C5 -> 10964551 | F5: https://rb.gy/5k2as
A6: SCHOOL YEAR 2024-2025 (2024) | B6: 153 | C6: =B6*75000 -> 11475000 | D6: =+Summary!E4 -> 14002838 | E6: =D6-C6 -> 2527837.9
A7: SCHOOL YEAR 2023-2024 (2023) | B7: 108 | C7: =B7*75000 -> 8100000 | D7: =+Summary!E5 -> 29146922 | E7: =D7-C7 -> 21046922
A8: SCHOOL YEAR 2022-2023 (2022) | B8: 105 | C8: =B8*75000 -> 7875000 | D8: =+Summary!E6 -> 16013748 | E8: =D8-C8 -> 8138747.8
A9: SCHOOL YEAR 2021-2022 (2021) | B9: 67 | C9: =B9*75000 -> 5025000 | D9: =+Summary!E7 -> 23846090 | E9: =D9-C9 -> 18821090
D13: Total Research Cost Expenditure for the last 5 years: | E13: =SUM(D5:D9) -> 1.1294915e+08
D14: Expected Researcn Cost Expenditure for the last past five years: | E14: =SUM(C5:C9) -> 51450000
D15: Difference Between Actual and Expected for the last five years: | E15: =SUM(E5:E9) -> 61499149
D16: Percentage between actual and expected | E16: =((E13-E14)/E14) -> 1.1953187 | F16: higher than the minimum compliance requirement
D18: The increase in the number of faculty members involved in research in 2024 was primarily due to the institutional merging of two universities. However, the research budget did not proportionally increase, as the allocated funds were based on the budget of only one institution and not the combined resources of both universities prior to the merger.
D20: As a result, despite higher faculty participation in research activities, the actual research expenditure fell short of the required amount for that year. This explains the negative variance observed. Nevertheless, when assessed over the five-year period, the institution demonstrates overall compliance with the required research expenditure.
D22: The institution’s actual research expenditure is 89% higher than the minimum compliance requirement, indicating a strong commitment to research funding and overall performance that significantly exceeds the prescribed standard.
B24: 236

Sheet Summary
A1: School Year | B1: GAA | C1: INCOME | D1: Externally Funded | E1: Total | H1: 236
A2: 2026-2027 (2026) | B2: =+O18 -> 3992536.7 | C2: =+O27 -> 968275.42 | D2: =+'Externally Funded Project'!C16 -> 3499640 | E2: =D2+C2+B2 -> 8460452.2
A3: 2025-2026 (2025) | B3: =P19 -> 8100475.3 | C3: =P28 -> 1888054.4 | D3: 19951022 | E3: =D3+C3+B3 -> 29939551
A4: 2024-2025 (2024) | B4: =P20 -> 7213239.1 | C4: =P29 -> 4742144.6 | D4: 2047454.3 | E4: =D4+C4+B4 -> 14002838
A5: 2023-2024 (2023) | B5: =P22 -> 14292630 | C5: =P31 -> 3359885.6 | D5: 11494406 | E5: =D5+C5+B5 -> 29146922
A6: 2022-2023(2022) | B6: =P23 -> 8843938 | C6: =P32 -> 340204.69 | D6: 6829605 | E6: =D6+C6+B6 -> 16013748
A7: 2021-2022(2021) | B7: =P24 -> 3638044.2 | C7: =P33 -> 177887.52 | D7: 20030158 | E7: =D7+C7+B7 -> 23846090
A8: TOTAL | B8: =SUM(B3:B7) -> 42088327 | C8: =SUM(C3:C7) -> 10508177 | D8: =SUM(D3:D7) -> 60352645 | E8: =SUM(E3:E7) -> 1.1294915e+08
E10: =E8/5 -> 22589830
F15: School Year | G15: ACTUAL ANNUAL RESEARCH COST EXPENDITURE
G16: ISPSC MERGED
F17: GAA | G17: PS | H17: MOOE | I17: CO | J17: Total | K17: PS | L17: MOOE | M17: CO | N17: Total | O17: Grand Total | P17: UIP Expenditures
F18: 2026-2027 (2026) | K18: 1741598.3 | L18: 2250938.4 | N18: =SUM(K18:M18) -> 3992536.7 | O18: =N18+J18 -> 3992536.7
F19: 2025-2026 (2025) | K19: =+'GAA 2025'!C24 -> 5625975.3 | L19: =+'GAA 2025'!E14 -> 2474500 | N19: =SUM(K19:M19) -> 8100475.3 | O19: =N19+J19 -> 8100475.3 | P19: =O19 -> 8100475.3
F20: 2024-2025 (2024) | K20: ='GAA 2024'!C53 -> 3708511.1 | L20: ='GAA 2024'!E38 -> 3504728 | N20: =SUM(K20:M20) -> 7213239.1 | O20: =N20+J20 -> 7213239.1 | P20: =O20 -> 7213239.1
G21: ISPSC-Sta. Maria | O21: =N21+J21 -> 0
F22: 2023-2024 (2023) | G22: 3781849.2 | H22: 283582.6 | J22: =SUM(G22:I22) -> 4065431.8 | K22: 50000 | L22: 214000 | M22: 9963198.6 | N22: =SUM(K22:M22) -> 10227199 | O22: =N22+J22 -> 14292630 | P22: =O22 -> 14292630
F23: 2022-2023(2022) | G23: 4052834.9 | H23: 240798.19 | I23: 4550304.9 | J23: =SUM(G23:I23) -> 8843938 | L23: 255000 | N23: =SUM(K23:M23) -> 255000 | O23: =N23+J23 -> 9098938 | P23: =J23 -> 8843938
F24: 2021-2022(2021) | G24: 2710865.6 | H24: 85458 | I24: 841720.64 | J24: =SUM(G24:I24) -> 3638044.2 | K24: 10000000 | L24: 255000 | N24: =SUM(K24:M24) -> 10255000 | O24: =N24+J24 -> 13893044 | P24: =J24 -> 3638044.2
J25: =SUM(G25:I25) -> 0 | N25: =SUM(K25:M25) -> 0 | O25: =N25+J25 -> 0 | P25: =J25 -> 0
F26: INCOME | G26: ISPSC MERGED
F27: 2026-2027 (2026) | J27: =SUM(G27:I27) -> 0 | L27: 968275.42 | N27: =SUM(K27:M27) -> 968275.42 | O27: =N27+J27 -> 968275.42 | P27: =O27 -> 968275.42
F28: 2025-2026 (2025) | J28: =SUM(G28:I28) -> 0 | L28: =+'Income 2025'!E86 -> 1888054.4 | N28: =SUM(K28:M28) -> 1888054.4 | O28: =N28+J28 -> 1888054.4 | P28: =O28 -> 1888054.4
F29: 2024-2025 (2024) | J29: =SUM(G29:I29) -> 0 | L29: =4246654.4+495490.19 -> 4742144.6 | N29: =SUM(K29:M29) -> 4742144.6 | O29: =N29+J29 -> 4742144.6 | P29: =O29 -> 4742144.6
G30: ISPSC -Sta. Maria | K30: NLPSC Candon | P30: =J30 -> 0
F31: 2023-2024 (2023) | H31: 180611.71 | J31: =SUM(G31:I31) -> 180611.71 | L31: 1655945 | M31: 1523328.9 | N31: =SUM(K31:M31) -> 3179273.9 | O31: =N31+J31 -> 3359885.6 | P31: =O31 -> 3359885.6
F32: 2022-2023(2022) | H32: 340204.69 | J32: =SUM(G32:I32) -> 340204.69 | L32: 599872.38 | M32: 58500 | N32: =SUM(K32:M32) -> 658372.38 | O32: =N32+J32 -> 998577.07 | P32: =J32 -> 340204.69
F33: 2021-2022(2021) | H33: 177887.52 | J33: =SUM(G33:I33) -> 177887.52 | L33: 508397 | N33: =SUM(K33:M33) -> 508397 | O33: =N33+J33 -> 686284.52 | P33: =J33 -> 177887.52

Sheet Externally Funded Project
B1: Externally Funded Project | K1: Mango | M1: Proba | N1: InnovationAGRI | Q1: InnovationFish | T1: IP-TBM | W1: NAFES
C2: 2026 | D2: 2025 | E2: 2024 | F2: 2023 | G2: 2022 | H2: 2021 | K2: Paid | L2: Unpaid | N2: 2020 | O2: 2021 | Q2: 2022 | R2: 2023 | T2: 2021 | U2: 2022 | W2: 2022 | X2: 2023
A3: 1 | B3: Establishment of Poultry Free-Range Multiplier Farm Project under the Stimulus Package for Agriculture Bayanihan 2 | G3: 1269458 | K3: 27384.47 | L3: 120 | N3: 5744362.5 | O3: 4686785 | Q3: 1284972.6 | R3: 2632054.2 | T3: 17275.53 | U3: 20335.55 | W3: 4378.44 | X3: 20313.64
A4: 2 | B4: Establishment of Goat Multiplier Breeder Farm | G4: 3960132.5 | K4: 13520.92 | L4: 3300 | O4: 4341896.3 | R4: 23060.05 | T4: 16000 | U4: 19164.47 | W4: 21232.62 | X4: 21605.02
A5: 3 | B5: ACEF Research-Commercialization of Mango Juice Processing Technology | H5: =K29 -> 1597182.9 | K5: 17034.55 | L5: 150000 | O5: 2952094 | R5: 4649457.5 | T5: 54000 | U5: 14700 | W5: 24626.24 | X5: 26350
A6: 4 | B6: Establishment of Tissue Culture Laboratory | H6: 3998926.2 | K6: 200 | L6: 17970 | O6: 1948904.2 | Q6: =SUM(Q3:Q5) -> 1284972.6 | R6: =SUM(R3:R5) -> 7304571.7 | T6: 38658.4 | U6: 101305 | W6: 24025.6 | X6: 18571.79
A7: 5 | B7: Establishment of Agriculture Innovation Center for Agrifishery-Livestock | H7: =O7 -> 13929679 | K7: 200 | L7: 2530 | O7: =SUM(O3:O6) -> 13929679 | T7: 19414.47 | U7: 29500 | W7: 3050 | X7: 13154.02
A8: 6 | B8: Establishment of Fisheries Innovation Center in ISPSC Narvacan Campus | F8: =R6 -> 7304571.7 | G8: =Q6 -> 1284972.6 | K8: 400 | L8: 900 | T8: 17398.31 | U8: 18129.99 | W8: 4980 | X8: 18613.83
A9: 7 | B9: Enhancing Technology Transfer through IP-TBM in ISPSC | G9: =U27 -> 315041.88 | H9: =T27 -> 504369.77 | K9: 400 | T9: 22515.46 | U9: 23462.4 | W9: 20421.76
A10: 8 | B10: Advancing Ilocos IFP Food Systems through Academia-Industry Collaborative Research and Innovation | D10: 2684796.2 | E10: 2047454.3 | F10: 1579834.2 | K10: 120 | T10: 19455.17 | U10: 20081.63 | W10: 2900
A11: 9 | B11: Upgrading of the College Kitchen Laboratories as Training Facility for Toursm and Hospitality Management Students (CHED STEP UP- Candon Campus) | D11: 13143170 | K11: 34784.64 | T11: 20315.09 | U11: 2030 | W11: 26428
A12: 10 | B12: Establishment of Microbiology Laboratory (DOST) | D12: 332023.13 | F12: 2610000 | K12: 32286.01 | T12: 13304.59 | U12: 20817.49 | W12: 15900
A13: 11 | B13: CHED-IDIG | D13: 3791032 | K13: 200 | T13: 26196 | U13: 22342.55 | W13: 22824.32
A14: 12 | B14: Massive Coconut Planting and Replanting Project 2023-2028 | C14: 2499640
A15: 13 | B15: PyroMukoHarvest: Design and Fabrication of a Mukosaku Pyrolysis Machine for the Production of Wood Vinegar and Biochar | C15: 1000000
B16: TOTAL | C16: =SUM(C3:C15) -> 3499640 | D16: =SUM(D3:D15) -> 19951022 | E16: =SUM(E3:E15) -> 2047454.3 | F16: =SUM(F3:F15) -> 11494406 | G16: =SUM(G3:G15) -> 6829605 | H16: =SUM(H3:H15) -> 20030158 | K16: 19108.74 | T16: 18288.69 | U16: 750 | W16: 6510
K17: 12034 | T17: 27000 | U17: 22422.8 | W17: 2800
K18: 971000.65 | T18: 75919 | W18: 12840
K19: 11487 | T19: 21399.92 | W19: 24025.6
K20: 31616.89 | T20: 12180 | W20: 268877
K21: 2100 | T21: 22515.6 | W21: 32256
K22: 17250 | T22: 18646.89 | W22: 48195
K23: 5650 | T23: 9000 | W23: 93600
K24: 13600 | T24: 18000 | W24: 120000
K25: 285600 | T25: 15351.45 | W25: 26428
K26: 99000 | T26: 1535.2 | W26: 11600
K27: 1855 | T27: =SUM(T3:T26) -> 504369.77 | U27: =SUM(U3:U17) -> 315041.88 | W27: 8800
K28: 350 | W28: 4807
K29: =SUM(K3:K28) -> 1597182.9 | W29: 13475
W30: 10091
W31: 1375
W32: 8600
W33: 840
W34: 1360
W35: 1080
W36: 39996.17
W37: 4625
W38: 1080
W39: 840
W40: 840
...

Sheet GAA 2024
A1: MOOE
A2: 02/20/2024 | B2: 02-101101-2024-02-0060 | C2: VANESSA JOY B. RAPADA | D2: reimbursement of traveling expenses in going to DA-Fisheries Biotechnology Center, Muñoz, Nueva Ecijja for laboratory activities of the research entitled "Haplotype Networking and Population Structure of Wild Hatirin in Ilocos and Pangasinan, Philippines" and "DNA Barcoding of 'ipon' fish caught in Ilocos Sur, Philippines" | E2: 5250
A3: 02/20/2024 | B3: 02-101101-2024-02-0061 | C3: CHRISTIAN C. MOLINA | D3: reimbursement of traveling expenses in going to DA-Fisheries Biotechnology Center, Muñoz, Nueva Ecijja for laboratory activities of the research entitled "Haplotype Networking and Population Structure of Wild Hatirin in Ilocos and Pangasinan, Philippines" and "DNA Barcoding of 'ipon' fish caught in Ilocos Sur, Philippines" | E3: 5250
A4: 06/10/2024 | B4: 02-101101-2024-06-0329 | C4: ANNA BLESILDA C. ATENDIDO | D4: reimbursement of expenses incurred in attending the 2nd Multidisciplinary Research Conference held on February 8-10, 2024 at Heroben Hotel, Tagum City | E4: 18140
A5: 06/10/2024 | B5: 02-101101-2024-06-0330 | C5: MANDY ROIE A. ATENDIDO | D5: reimbursement of expenses incurred in attending the 2nd Multidisciplinary Research Conference held on February 8-10, 2024 at Heroben Hotel, Tagum City | E5: 21613.5
A6: 06/18/2024 | B6: 02-101101-2024-06-0340 | C6: MANDY ROIE A. ATENDIDO | D6: reimbursement of expenses for benchmarking activity at MMSU; submit documents to CHED RO1 & process MOA with ITRMC for the offering of BSN Program; attend 1st Quarter Meeting of Region 1 Health Research & Development Consortium at Baguio City | E6: 3842
A7: 8/12/2024 | B7: 02-101101-2024-08-0463 | C7: PREXIE RAM T. ROA | D7: reimbursement of traveling expenses in attending the Training on Statistics for Social Sciences and Experimental Research on June 12-14, 2024 at Batac City, Ilocos Norte | E7: 1640
A8: 09/06/2024 | B8: 02-101101-2024-090527 | C8: PHILIPPINE ASSOCIATION OF GENDER AND DEVELOPMENT ADVOCATORS IN EDUCATION AND INDUSTRIES INC. (PAGDAEII) | D8: payment of registration fee in attending the 10th Annual National Gender and Development (GAD) Conference for Advocators in Education and Industries with the Theme: "Capability Enhancement on GAD Planning and Budgeting and Research Summit for A Responsive and Genuine Institutional Transformation" on October 9-11, 2024 at City State Asturias Hotel, Puerto Prinsesa City, Palawan | E8: 24000
A9: 09/16/2024 | B9: 02-101101-2024-09-0539 | C9: ELYROSE MATI CARINDERIA | D9: payment for the meals and snacks for the Capability Building on GAD Research on September 19-20, 202 | E9: 27500
A10: 10/16/2024 | B10: 02-101101-2024-10-0601 | C10: MARIBEL IBANEZ | D10: reimbursement of tarpauilin for the conduct of Capacity Building on GAD Reseach-Qualitative Approaches in Writing GAD Researches last July 23-24, 2024 at Conference Hall, RDETC Main Campus, Candon City, Ilocos Sur | E10: 2160
A11: 45657 | B11: 01-101101-2024-12-0864 | C11: AILEEN ANGA-ANGAN | D11: reimbursement of traveling expense in atteding the GAD Information Caravan, Semniar, Capability Building on Gad Research, Bench Mark Activity, Capability Building of Gad Focal Point System Gender Sensitivity Training of Teaching & Non Teachinfg Staff | E11: 9400
A12: 45657 | B12: 02-101101-2024-12-0950 | C12: ANNABELLE B. FRANCISCO | D12: rreimbursement of her communication allowance as the VP For Research, Extension & Development for the month of October-December 2024 | E12: 6000
A13: 03/14/2024 | B13: 02-102101-2024-03-0118 | C13: VANESSA J RAPADA | D13: cash advance for expenses to be incurred for the training and research collaboration for the project "Future-proof Agriculture for Ilocos Sur: Innovative, Sustainable and Inclusive" on April 6-19, 2024 at QIS Education Institutions, Andhra Pradesh, India | E13: 124400
A14: 03/14/2024 | B14: 02-102101-2024-03-0119 | C14: G VILLANUEVA JR. | D14: cash advance for expenses to be incurred for the training and research collaboration for the project "Future-proof Agriculture for Ilocos Sur: Innovative, Sustainable and Inclusive" on April 6-19, 2024 at QIS Education Institutions, Andhra Pradesh, India | E14: 124400
A15: 03/14/2024 | B15: 02-102101-2024-03-0120 | C15: ZEUS V MENDOZA | D15: cash advance for expenses to be incurred for the training and research collaboration for the project "Future-proof Agriculture for Ilocos Sur: Innovative, Sustainable and Inclusive" on April 6-19, 2024 at QIS Education Institutions, Andhra Pradesh, India | E15: 124400
A16: 06/10/2024 | B16: 02-102101-2024-06-0331 | C16: VANESSA JOY RAPADA | D16: adjustment for the actual expenses incurred in going to Kasetsart University Thailand on May 05-12, 2024 for a training on Catfish Breeding and Nursing under the project "Future-Proof Agriculture of Ilocos Sur: Innovative, Sustainable and Inclusive" | E16: -1198.5
A17: 07/04/2024 | B17: 02-102101-2024-07-0384 | C17: RICKY R. CABATU | D17: adjustment for the actual expenses incurred in going to Kasetsart University Thailand on May 05-12, 2024 for a training on Catfish Breeding and Nursing under the project "Future-Proof Agriculture of Ilocos Sur: Innovative, Sustainable and Inclusive" | E17: -1403.5
A18: 07/29/2024 | B18: 02-102101-2024-07-0423 | C18: A. EVANGELISTA | D18: cash advance for the expenses to be incurred in participating in the training on IOT, AI, Big Data and Drones in Agriculture on August 5-9, 2024 at Thailand under the project "Future-Proof Agriculture for Ilocos Sur:Innovative, Sustainable and Inclusive" | E18: 109000
A19: 07/29/2024 | B19: 02-102101-2024-07-0424 | C19: JOY BEA | D19: cash advance for the expenses to be incurred in participating in the training on IOT, AI, Big Data and Drones in Agriculture on August 5-9, 2024 at Thailand under the project "Future-Proof Agriculture for Ilocos Sur:Innovative, Sustainable and Inclusive" | E19: 109000
A20: 8/16/2024 | B20: 02-102101-2024-08-0471 | C20: VJ RAPADA | D20: adjustment for the actual expenses incurred for training and research collaboration for the project "Future-proof Agriculture for Ilocos Sur: Innovative, Sustainable and Inclusive" on April 6-19, 2024 at QIS Education Institutions, Andhra Pradesh, India | E20: 640
A21: 8/16/2024 | B21: 02-102101-2024-08-0472 | C21: G VILLANUEVA JR. | D21: adjustment for the actual expenses incurred for training and research collaboration for the project "Future-proof Agriculture for Ilocos Sur: Innovative, Sustainable and Inclusive" on April 6-19, 2024 at QIS Education Institutions, Andhra Pradesh, India | E21: 373
A22: 8/19/2024 | B22: 02-102101-2024-08-0476 | C22: ZV MENDOZA | D22: adjustment of expenses incurred for the training and research collaboration for the project "Future-proof Agriculture for Ilocos Sur: Innovative, Sustainable and Inclusive" on April 6-19, 2024 at QIS Education Institutions, Andhra Pradesh, India | E22: 88
A23: 8/19/2024 | B23: 02-102101-2024-08-0477 | C23: ALLYSON T. MINA | D23: adjustment of per diem in going to Kasetsart University (KU), Thailand and Asian Institute of Technology (AIT) Thailand for academic & research collaborations, benchmarking, site/farm visits under the project "Future-Proof Agriculture for Ilocos Sur: Innovative, Sustainable and Inclusive" | E23: 859
A24: 8/19/2024 | B24: 02-102101-2024-08-0478 | C24: A. FRANCISCO | D24: adjustment of per diem in going to Kasetsart University (KU), Thailand and Asian Institute of Technology (AIT) Thailand for academic & research collaborations, benchmarking, site/farm visits under the project "Future-Proof Agriculture for Ilocos Sur: Innovative, Sustainable and Inclusive" | E24: 1193
... A33: 8/30/2024 | B33: 02-102101-2024-08-0512 | C33: VIRGINIA GARLEJO | D33: cash advance for the training fee and travelling expenses to be incurred in attending the training with ther Drone Entry LTd to be held at the Asian Institute of Technology, Thailand on Sept.4-10, 2024 under the project "Future-Proof Agriculture for Ilocos Sur: Innovative, Sustainable, Inclusive" | E33: 109000
A34: 45657 | B34: 02-101101-2024-12-0951 | C34: RANEC A. AZARIAS | D34: reimbursement of his communication allowance as the Director for Reseach of the College for the month of October-December 2024 | E34: 3000
E35: =SUM(E2:E34) -> 1377621.5
D36: L: RS | E36: -44893.5
D37: Charges to Research Fund | E37: 2172000
D38: Total | E38: =+SUM(E35:E37) -> 3504728
A42: PS
A43: Research | C43: 1746000
A44: Attribution | B44: A. Francisco | C44: =+(1512685.31695652/18)*15 -> 1260571.1
B45: R. Azarias | C45: =+(1052910/18)*12 -> 701940
A53: Total | C53: =SUM(C43:C52) -> 3708511.1

Sheet Income 2024
A1: 02/15/2024 | B1: 02-206441-2024-02-0006 | C1: JOCELYN L. ABSOLOR | D1: reimbursement of registration fee for presenting her research paper in the 4th International Congress and Competition in Multidisciplinary Research (via Zoom) | E1: 3500 | G1: Advanced Ed-SM
A2: 03/01/2024 | B2: 02-206441-2024-03-0023 | C2: JOCELYN L. ABSOLOR | D2: reimbursement of expenses incurred in attending the Training-Workshop on AI-Integrated Research Advising and Paneling on February 7-9, 2024 at Selah Pods Hotel Manila, Pasay City | E2: 10829 | F2: GS-SM
A3: 04/23/2024 | B3: 02-206441-2024-04-0102 | C3: EDERLINA M. SUMAIL | D3: reimbursement of traveling expenses in attending Training-Workshop on AI-Integrated Research Advising & Paneling and attend 1st Quarter Joint Council and Secretariat Meeting on Feb 6-8, 2024 | E3: 3765
A4: 04/30/2024 | B4: 02-206441-2024-04-0123 | C4: MARITES J. YACAP | D4: reimbursement of traveling expenses in attending to Benchmark Academic and Research Collaborations at University of the Philippines, Los Banos Laguna on March 12, 2024 | E4: 3080
A5: 05/15/2024 | B5: 02-206441-2024-05-0187 | C5: NORTHWESTERN UNIVERSITY, INC. | D5: payment for registration in attending the 2nd International Hospitality and Tourism Research Conference and skills Convergence on May 22-23, 2024 at Laoag City, Ilocos Nort | E5: 16800
A6: 05/30/2024 | B6: 02-206441-2024-05-0255 | C6: JOCELYN ABSOLOR | D6: reimbursement for traveling expenses and fuel(diesel) used for school vehicle SAA2083 to conduct benchmarking and research collaboration on March 11-13, 2024 | E6: 3000
A7: 05/30/2024 | B7: 02-206441-2024-05-0255 | C7: JOCELYN ABSOLOR | D7: reimbursement for traveling expenses and fuel(diesel) used for school vehicle SAA2083 to conduct benchmarking and research collaboration on March 11-13, 2024 | E7: 2513
A8: 06/11/2024 | B8: 02-206441-2024-06-0295 | C8: RICHARD M. ETRATA | D8: reimbursement for registration fee used during the AMPAYAG 2024: 2nd Intenational Hospitality and Tourism Research Conference on May 23, 2024 a Northwestern University, laoag, Ilocos Norte | E8: 20000
A9: 07/10/2024 | B9: 02-206441-2024-07-0367 | C9: JOANNA MARIE T. GUARIN | D9: reimbursement for traveling expenses to attend Benchmarking and discuss academic and research collaborations with UP, Los Banos on march 11-23, 2024 | E9: 3300
A10: 07/17/2024 | B10: 02-206441-2024-07-0374 | C10: CEFERINO'S RESTAURANT | D10: payment for purchase and delivery of meals and snacks for Capability Building on GAD Research | E10: 23400
A11: 07/17/2024 | B11: 02-206441-2024-07-0378 | C11: PRECIOUS ALEXIA FOOD HOUSE | D11: payment for the purchased and delivery of meals and snacks for the Comparative Analysis Workshop on the Implementation of Higher Education Research projects in Selected Ilocos Region SUCs | E11: 1987.5
A12: 07/18/2024 | B12: 02-206441-2024-07-0381 | C12: GERALDINE V. REYES | D12: reimbursement for registration fee used to attend the Training Workshop on Qualitative Social Research on May 14-15, 2024 at Diliman, Quezon City | E12: 10305
A13: 07/30/2024 | B13: 02-206441-2024-07-0462 | C13: CYNTHIA M. CARINO | D13: reimbursement for traveling expenses incurred toattend Benchmarking Academic and Research Collaborations at University of the Philippines, Los Banos and to submit documents for signature of OIC | E13: 4350
A14: 07/30/2024 | B14: 02-206441-2024-07-0462 | C14: CYNTHIA M. CARINO | D14: reimbursement for traveling expenses incurred toattend Benchmarking Academic and Research Collaborations at University of the Philippines, Los Banos and to submit documents for signature of OIC | E14: 4350
... A33: 11/22/2024 | B33: 02-206441-2024-11-0853 | C33: FRANCISCA-FRANCISCO'S PLACE | D33: payment for the purchase and delivery of meals and snacks for the 1st CTE Students Research Congress on October 25, 2024 at AVR,CHED BLDG, ISPSC Main Campus | E33: 5350
A34: 45643 | B34: 02-206441-2024-12-1029 | C34: ANNABELLE B. FRANCISCO | D34: reimbursement of her communication allowance as the VP For Research, Extension & Development for the month of January-September 2024 | E34: 18000
A35: 45645 | B35: 02-206441-2024-12-1066 | C35: JIM-MAR F. DELOS REYES | D35: reimbursement of traveling expense and registration fee in Person Workshop: Using Generative Al in Research Writing on November 17-20, 2024 at Siliman University, Dumaguete City | E35: 18970.16
A36: 45652 | B36: 02-206441-2024-12-1134 | C36: IRIZ NICOLE ANGELIQUE B. MENDOZA | D36: reimbursement of traveling expense in attending the National Communcation Research Conference 2024 with the Theme " Blueprints and Imprints: The UN Sustainable Development Goals (UN SDGs) in Communication and Media Research on November 22-23, 2024 at Teresa G. Yuchengco Auditorium, De La Salle University Manila, Taft Ave, Malate, Philippines. | E36: 10250
A37: 45653 | B37: 02-206441-2024-12-1219 | C37: EMARLEIGH'S CAFÉ | D37: payment for the purchase and delivery of meals and snacks for the Research Capability Training and Research and Publication Mentoring of ISPSC Sta Maria Campus | E37: 35250
A38: 45653 | B38: 02-206441-2024-12-1222 | C38: SACRED HEART SAVINGS COOPERATIVE | D38: payment for the purchase and delivery of tarpaulin printing for the conduct of Re-Eco Seminar on Understanding the Gains and Challenges and Opportunities in Food Production, Research, Programs & Policies in South East Asia on December 13, 2024 at CAFED ISPSC Sta Maria | E38: 832
A39: 45653 | B39: 02-206441-2024-12-1234 | C39: ANGELINA T. GONZALES | D39: payment for the honoraria as resource speaker in conducting the Research Capability Training and Research and Publication Mentoring on December 7-14, 2024 at Innovation Center | E39: 6002
A40: 45657 | B40: 02-206441-2024-12-1306 | C40: CAREN JOY S. INGOY | D40: cash advance for the payment of honorarium for Action Research Fee for the 2nd Semester AY 2024-2025 of College of Teacher Education Tagudin Campus | E40: 22800

Sheet GAA 2025
A1: 07/08/2025 | B1: 02-101101-2025-07-0675 | C1: JACQULINE G. GUMALLAOI | D1: reimbursement of registration fee in attending the Training Workshop on Research Methods for Teaching last May 27-29, 2025 at Castle Park Hotel, Cebu City | E1: 6000
A2: 07/08/2025 | B2: 02-101101-2025-07-0679 | C2: ANNABELLE B. FRANCISCO | D2: reimbursement of communication allowance as Vice President for Research, Extension, and Internationalization for the months of April and May, 2025 | E2: 5000
A3: 07/30/2025 | B3: 02-101101-2025-07-0719 | C3: DOST RO1 | D3: payment for the Ilocos Consortium for Industry, Energy & Emerging Technology Research and Development (ICIEERD) annual contributions fee of the college | E3: 50000
A4: 08/05/2025 | B4: 02-101101-2025-08-0739 | C4: SAFARY WA-MBALEKA | D4: payment for his professional fees as Resource speaker during the Graduate School Qualitative Research Seminar on July 18, 2025 held at Sta. Maria Campus | E4: 15000
A5: 08/07/2025 | B5: 02-101101-2025-08-0755 | C5: JOSE Q. CABATU | D5: reimbursement of DTE and registration fee in attending the 2nd Southeast Asian Multidisciplinary Research Expo and Extension Conference (SEAMREEC) last June 22-28, 2025 held at Sorsogon Convention Center, Sorsogon City | E5: 15750
A6: 08/07/2025 | B6: 02-101101-2025-08-0756 | C6: CHRISTIAN C. MOLINA | D6: reimbursement of DTE and registration fee in attending the 2nd Southeast Asian Multidisciplinary Research Expo and Extension Conference (SEAMREEC) last June 22-28, 2025 held at Sorsogon Convention Center, Sorsogon City | E6: 17250
A7: 09/09/2025 | B7: 02-101101-2025-09-0813 | C7: JOCELYN L. ABSOLOR | D7: payment for his representation allowance and transpostation allowance as VP For Research, Development and Extension for the period June, July and August 2025 | E7: 52250
A8: 09/09/2025 | B8: 02-101101-2025-09-0822 | C8: SUCTEA, INC. | D8: payment for the registration fee in attenting the SUCTEA National Conference & Research Presentation on September 22-24, 205 at Diversion 21 Hotel, Ilo ilo City | E8: 12000
A9: 11/14/2025 | B9: 01-101101-2025-11-1038 | C9: JOCELYN L. ABSOLOR | D9: payment for his representation allowance and transpostation allowance as VP For Research, Development and Extension for the period September and October 2025 | E9: 38000
A10: 12/02/2025 | B10: 01-101101-2025-12-1086 | C10: JOCELYN L. ABSOLOR | D10: payment for his representation allowance and transpostation allowance as VP For Research, Development and Extension for the of November 2025 | E10: 14250
A11: 12/26/2025 | B11: 01-101101-2025-12-1218 | C11: JOCELYN L. ABSOLOR | D11: payment for his representation allowance and transpostation allowance as VP For Research, Development and Extension for the of December 2025 | E11: 19000
E12: =SUM(E1:E11) -> 244500
D13: Charges to RS | E13: 2230000
E14: =+E12+E13 -> 2474500
A16: PS
B17: Charges to RS | C17: 1815000
B18: Mam Joy Absolor | C18: =+(2995229.52/18)*15 -> 2496024.6
B19: Mam Mila Liberato | C19: =+(1972426.05/18)*12 -> 1314950.7
B24: Total PS | C24: =+SUM(C17:C23) -> 5625975.3

Sheet Income 2025
A1: 02/20/2025 | B1: 02-206441-2025-02-0021 | C1: PUBLISHERS INTERNATIONAL LINKING ASSOCIATION, INC, | D1: payment for the annual membership fee, quaterly content registration fee and wire service fee for E-Dawa in idexing the Google Scholar and Research Gate | E1: 18991.5
A2: 06/09/2025 | B2: 02-206441-2025-06-0217 | C2: DELIA R. CASILLAN | D2: reimbursement of traveling expense and registration fee in attending the workshop on Designing Qualitative Social Science Research last April 9-12, 2025 at Commonwealth Avenue, Diliman Quezon City | E2: 13692
A3: 06/10/2025 | B3: 02-206441-2025-06-0229 | C3: PRECIOUS ALEXIA FOODHOUSE | D3: payment for the Supply and delivery of meals and snacks for Seminar on Research and Technology Trends in Science and Mathematics Edition held at AVR, CHED Bldg, ISPSC Main Campus last May 14, 2025 | E3: 24900
A4: 06/16/2025 | B4: 02-206441-2025-06-0263 | C4: PRECIOUS ALEXIA FOODHOUSE | D4: payment for the supply and delivery of meals and snacks for Conduct of Research Mentoring and Colaboration held at ISPSC Main Campus last May 26-27, 2025 a | E4: 12200
A5: 06/17/2025 | B5: 02-206441-2025-06-0281 | C5: MARITES J. YACAP | D5: reimbursement for the traveling expense and registration fee in attending the the training Workshop on Ethical Use of Artificial Intelklegence (Al) in Research and Publication for Sustainable Graduate Education last May 23-24, 2025 at DMMSU Mid La Union, San Fernando City | E5: 3680
A6: 06/17/2025 | B6: 02-206441-2025-06-0282 | C6: ZOSIMO A. LIBERATO | D6: reimbursement for the traveling expense and registration fee in attending the 2025 Annual Scientific Conference and 92nd NRCP General Membership Assembly :training Workshop on Ethical Use of Artificial Intellegence (Al) in Research and Publication for Sustainable Graduate Education last May 23-24, 2025 at DMMSU Mid La Union, San Fernando City | E6: 11732
A7: 06/17/2025 | B7: 02-206441-2025-06-0283 | C7: MILAGROS O. LIBERATO | D7: reimbursement for the traveling expense and registration fee in attending the 2025 Annual Scientific Conference and 92nd NRCP General Membership Assembly :training Workshop on Ethical Use of Artificial Intellegence (Al) in Research and Publication for Sustainable Graduate Education last May 23-24, 2025 at DMMSU Mid La Union, San Fernando City | E7: 12132
A8: 07/03/2025 | B8: 02-206441-2025-07-0319 | C8: MARIA TERESA T. GARCIA | D8: reimbursement of traveling expense while on official travel last May 15-19, 2025: traveling expense in attending the PAGE RO1 Research Convergence last May 23-24, 2025 at DMMMSU Mid La Union Campus | E8: 3420
A9: 07/14/5025 | B9: 02-206441-2025-07-0331 | C9: ALICIA G. ELLORIN | D9: reimbursement for the traveling expense and registration fee in attending the Workshop on Ethical Use of Artificial Intellegence (Al) in Research and Publication for Sustainable Graduate Education last May 23-24, 2025 at DMMSU Mid La Union, San Fernando City | E9: 2729
A10: 07/28/2025 | B10: 02-206441-2025-07-0406 | C10: ISPSC PAYROLL FUND | D10: payment of honorarium in Action Research For the 2nd Semester AY 2024-2025 of College of Teacher Education of Tagudin Campus | E10: 10600
A11: 07/30/2025 | B11: 02-206441-2025-07-0428 | C11: GEREMY SANCHEZ | D11: reimbursement for the traveling expense while on official travel for the period covered March 19- June 20, 2025: traveling expense in attending the Research Commission entitled: " Empowering Wquity Target Students: Enchancing Access and Success in State Universities and Colleges acros | E11: =5700-1150 -> 4550
A12: 07/30/2025 | B12: 02-206441-2025-07-0442 | C12: JOANNA MARIE T. GUARIN | D12: reimbursement for the traveling expense and registration fee in attending the 2ND General Membership Meeting, International Research Conference, CSR Activity with the theme: Sustainability Education, Research and Values towards Innovation, Collaboration and Exceleence heald on April 10-12, 2025 at Paradise Garden Hotel and Convention Center, Boracay Aklan, Philippines | E12: 21333
A13: 07/29/2025 | B13: 02-206441-2025-07-0411 | C13: CHRISTIAN C. MOLINA | D13: reimbursement for the traveling expense while on official travel for the period covered February 12-14, 2025: traveling in attending the Lighting Poster Presentation-"AgriKonek: Sparkling Innovatioon and Pioneering the Future of Agribiotechnology" last March 27-30, 225 at ATI, Quezon City | E13: =8170-3960 -> 4210
A14: 08/05/2025 | B14: 02-206441-2025-08-0454 | C14: MARIANO MARCOS MEMORIAL HOSPITAL AND MEDICAL CENTER INCOME TRUST FUND | D14: payment for the membership fee for the Annual Contribution of Region 1 Health Research and Development Consortium (R1HRDC) for the year 2025 | E14: 10000
A15: 08/07/2025 | B15: 02-206441-2025-08-0473 | C15: PROFESSIONAL ORGANIZATION OF RESEARCHERS AND EDUCATORS OF THE PHILIPPINES, INC. | D15: paymentr for the registration fee in attending the 2025 National Seminar Workshop on Research Publication: Getting Published n Scopus and Web of Science Indexed Journals " on August 22-24, 2025 held at District 21 Hotel, Mandurriao, Iloilo City | E15: 26000
A16: 08/08/2025 | B16: 02-206441-2025-08-0490 | C16: MILAGROS O. LIBERATO | D16: reimbursement for the fuel consumption and toll fee in coducting research collaborative activity at UP Los Baños , Laguna last July 3, 2025 | E16: 3500
A17: 08/13/2025 | B17: 02-206441-2025-08-0515 | C17: CYNTHIA M. CARIÑO | D17: reimbursement of traveling expense and registration fee in attending the training " Workshop on Ethical Use of Artificial Intelligence (AL) in Research and Publication for Sustainable Graduate Education on May 23-24, 2025 at DMMSU MId La Union, San Fernando City: registration and traveling expense in Advances in Peer-Reviewing & Thesis Writing for Article and Book Publication last July 28-30, 2025 at Alona Beach, Panglao Island Bohol, Philippines | E17: 29897.62
A18: 45888 | B18: 02-206441-2025-08-0540 | C18: INTERNATIONAL ASSOCIATION OF MULTIDISCIPLINARY RESEARCH, INC. | D18: payment for the registration fee in attending the seminar entitled "Research Diagnostics: Advance Skills for Research Paneling, Advising & Publishing on September 2-4, 2025 at Hotel Elizabeth, Baguio City | E18: 7500
A19: 09/02/2025 | B19: 02-206441-2025-09-0588 | C19: MILAGROS O. LIBERATO | D19: reimbursement for the toll feeS in conducting research collaborative activity at UP Los Baños , Laguna last July 3, 2025 | E19: 1500
A20: 09/03/2025 | B20: 02-206441-2025-09-0593 | C20: SOLOMON L. ANAGARAN | D20: reimbursement for the toll fees and fuels in attending the 2nd Southest Asian Multidisciplinary Research Expo and Extension Conference (SEAMREEC 2025) last June 24-27, 2025 at Sorsogon State University Main Campus, Sorsogon City | E20: 12658.79
A21: 09/04/2025 | B21: 02-206441-2025-09-0596 | C21: ROSE MARIE C. DETRAN | D21: reimbursement for the travelling expense in attending the 2025 National Seminar Workshop on Research Publication: Getting Published n Scopus and Web of Science Indexed Journals " last August 22-24, 2025 held at Mandurriao, Iloilo City | E21: 13324.83
A22: 09/09/2025 | B22: 02-206441-2025-09-0618 | C22: ISPSC PAYROLL FUND | D22: payment of honorarium for Action Research Fee for the 2nd Semester AY 2024-2025 of College of Teacher Education Major in Filipino Tagudin Campus | E22: 7200
A23: 09/09/2025 | B23: 02-206441-2025-09-0623 | C23: JACQUELINE GUMALLAOI | D23: payment for the travelling expense in attending the Training Workshop on Research Methods for Teaching on May 27-29, 2025 at Castle Park Hotel, Cebu City | E23: 15386.44
A24: 09/09/2025 | B24: 02-206441-2025-09-0624 | C24: DR. JONALYN LACAMBRA | D24: payment for the travelling expense in attending the Training Workshop on Research Methods for Teaching on May 27-29, 2025 at Castle Park Hotel, Cebu City | E24: 14171.44
A25: 09/11/2025 | B25: 02-206441-2025-09-0658 | C25: SCHOOL PRESS ADVISERS MOVEMENT SPAM INC. | D25: payment for the registration fee in attending the 16th National Campus Media Conference (NCMC) and 3rd International Research Conference on Media and Community Development at NU- Clark, SM City Clark, Clark Freeport, Angeles City on September 25-27, 2025 | E25: 150000
A26: 09/18/2025 | B26: 02-206441-2025-09-0687 | C26: JONALYN LACAMBRA | D26: payment for the tregistration fee in attending the Training Workshop on Research Methods for Teaching on May 27-29, 2025 at Castle Park Hotel, Cebu City | E26: 6000
A27: 09/18/2025 | B27: 02-206441-2025-09-0693 | C27: PHILIPPINE LIBRARIANS ASSOCIATION, INC.-ILOCOS REGION LIBRARIANS COUNCIL | D27: payment for the registration fee in attending the Seminar Workshop "Empowering Librarians as Researcher Innovators: Qualitative Inquiry and Open Access OER Platform on September 25-26, 2025 at Mariano Marcos State University (MMSU) Center for Flexible Learning, Batac, Ilocos Norte | E27: 6000
A28: 09/19/2025 | B28: 02-206441-2025-09-0698 | C28: VICENTE R. RARAS | D28: reimbursement for the travelling expense in attending the seminar entitled "Research Diagnostics: Advance Skills for Research Paneling, Advising & Publishing on September 2-4, 2025 at Hotel Elizabeth, Baguio City | E28: 3111.5
A29: 09/29/2025 | B29: 02-206441-2025-09-0723A | C29: CYNTHIA M. CARIÑO | D29: reimbursement for the travelling expense in attending the Research Diagnostics: Advance Skills for Research Paneling, Advising & Publishing on September 2-4, 2025 at the Hotel Elizabeth, Baguio City | E29: 17800
A30: 10/01/2025 | B30: 02-206441-2025-10-0740 | C30: JOCELYN L. ABSOLOR | D30: reimbursement for the publication fee for the research entitled: "One Town, One Product (OTOP) Program in the Province of Ilocos Sur (Study 2: The Cultural Significance of One Town, One Product (OTOP) in the Province of Ilocos Sur)" for CY 2025 | E30: 2091.28
... A69: 12/16/2025 | B69: 02-206441-2025-12-1518 | C69: REAGAN LOUIE C. FUNTANILLA | D69: reimbursement of travelling expenses incurred in going to CHED RO1 to submit COPC requiements on Feb. 13, 2025 and in attending the Training-Workshop on "Ethical Use of Artificial Intelligence (AI) in Research and Publication for Sustainable Graduate Education" on May 23-24, 2025 2025 | E69: 4350
A70: 46013 | B70: 02-206441-2025-12-1595 | C70: ROSE MARIE C. DETRAN | D70: reimbursement for the travelling expense in attending the 2025 Research Conference on GEDSI and Education at Siliman University, Dumaguete City, Negros Oriental last November 28-30, 2025 | E70: 5760
A71: 46013 | B71: 02-206441-2025-12-1597 | C71: MILAGROS LIBERATO | D71: reimbursement for the toll fees and fuel consumption in fetching the participants at NAIA Terminal who served as a Research Evaluator of Research Conference on GEDSI and Education in Siliman University | E71: 4500
A72: 46013 | B72: 02-206441-2025-12-1603 | C72: Tricia L. Gundran | D72: reimbursement for the travelling expenses in attending the Research Conference on GEDSI and Education in Siliman University, Dumaguete Citi last November 27-28, 2025 | E72: 5760
A73: 46013 | B73: 02-206441-2025-12-1607 | C73: Roel Palo Anicas | D73: payment for the honoraria as resource speaker for the Writeshop on Research Publication:Getting Published in Reputable Journals last September 1-2, 2025 at ISPSC Main Campus | E73: 39201.25
A74: 46014 | B74: 02-206441-2025-12-1639 | C74: ENHELYN L. MORLA | D74: reimbursement for the travelling expense in attending the 3rd International Research and Innovation Conference on Education, Engineering and Agriculture (IRICEEA 2025) last December 3-5, 2025 at Bacnotan, La Union | E74: 3800
A75: 12/23/2025 | B75: 02-206441-2025-12-1644 | C75: MKA LAND DEVELOPMENT INC. - HOTEL ARIANA | D75: payment for the CBME Faculty Development Seminar Workshop on Research and Extension Planning last December 15-17, 2025 at Ariana Hotel Paringao Bauang | E75: 103750
A76: 12/26/2025 | B76: 02-206441-2025-12-1702 | C76: JULIA JOSEPHINE E. DASALLA | D76: reimbursement for the travelling expense in attending the Seminar-Workshop on Empowering Librarians as Research Innovators: Qualitative Inquiry and Open Access (OFA) Platforms last October 2-3, 2025 | E76: 1258
A77: 12/26/2025 | B77: 02-206441-2025-12-1707 | C77: MILAGROS O. LIBERATO | D77: reimbursement for the travelling expense in attending the Research Publication Writeshop last December 15-17,2025 | E77: 1550
A78: 12/26/2025 | B78: 02-206441-2025-12-1712 | C78: JUMILIE R. JIMENEZ | D78: reimbursement of the travelling expense in attending the research conference as facilitator, moderator, participant and evaluator last December 3-5, 2025 at Bauang, La Union | E78: 3600
...
